BEGIN:VCALENDAR
VERSION:2.0
PRODID:-//hacksw/handcal//NONSGML v1.0//EN
BEGIN:VEVENT
DTSTAMP:20200603T120000Z
DTSTART:20200603T120000Z
DTEND:20200603T120000Z
LOCATION:Rathaus, Deutschland
SUMMARY:Kulturausschuss
END:VEVENT
END:VCALENDAR
