BEGIN:VCALENDAR
VERSION:2.0
PRODID:-//hacksw/handcal//NONSGML v1.0//EN
BEGIN:VEVENT
DTSTAMP:20200620T080000Z
DTSTART:20200620T080000Z
DTEND:20200620T103000Z
LOCATION:REWE-Markt, Theodor-Spiering-Platz, Oberhausen, 46145, Deutschland
SUMMARY:Infostand - Königshardt
END:VEVENT
END:VCALENDAR
