BEGIN:VCALENDAR
VERSION:2.0
PRODID:-//hacksw/handcal//NONSGML v1.0//EN
BEGIN:VEVENT
DTSTAMP:20200911T140000Z
DTSTART:20200911T140000Z
DTEND:20200911T160000Z
LOCATION:REWE-Markt, Danziger Str. 132, Oberhausen, 46045, Deutschland
SUMMARY:Infostand - Alt-Oberhausen-Ost
END:VEVENT
END:VCALENDAR
