BEGIN:VCALENDAR
VERSION:2.0
PRODID:-//hacksw/handcal//NONSGML v1.0//EN
BEGIN:VEVENT
DTSTAMP:20200718T080000Z
DTSTART:20200718T080000Z
DTEND:20200718T110000Z
LOCATION:Rewe-Markt, Ebertstraße / Buschhausener Str., Oberhausen, 46045, Deutschland
SUMMARY:Infostand - Alt-Oberhausen-West
END:VEVENT
END:VCALENDAR
