BEGIN:VCALENDAR
VERSION:2.0
PRODID:-//hacksw/handcal//NONSGML v1.0//EN
BEGIN:VEVENT
DTSTAMP:20200725T080000Z
DTSTART:20200725T080000Z
DTEND:20200725T110000Z
LOCATION:St. Katharina, Wilmsstraße / Helenenstraße, Oberhausen, 46049, Deutschland
SUMMARY:Infostand - Alt-Oberhausen-West
END:VEVENT
END:VCALENDAR
