BEGIN:VCALENDAR
VERSION:2.0
PRODID:-//hacksw/handcal//NONSGML v1.0//EN
BEGIN:VEVENT
DTSTAMP:20200806T143000Z
DTSTART:20200806T143000Z
DTEND:20200806T160000Z
LOCATION:Bahnhof Buschhausen, Skagerrakstraße / Grüner Pfad, Oberhausen, 46149, Deutschland
SUMMARY:Erfolgs-Tour Daniel Schranz: Walsumbahn
END:VEVENT
END:VCALENDAR
