BEGIN:VCALENDAR
VERSION:2.0
PRODID:-//hacksw/handcal//NONSGML v1.0//EN
BEGIN:VEVENT
DTSTAMP:20200811T130000Z
DTSTART:20200811T130000Z
DTEND:20200811T150000Z
LOCATION:Alter Bahnübergang - Hiberniatrasse, Hiberniastraße / Fritz-Eickelen-Weg, Oberhausen, 46049, Deutschland
SUMMARY:Erfolgs-Tour Daniel Schranz: Radschnellweg RS1
END:VEVENT
END:VCALENDAR
