BEGIN:VCALENDAR
VERSION:2.0
PRODID:-//hacksw/handcal//NONSGML v1.0//EN
BEGIN:VEVENT
DTSTAMP:20200814T123000Z
DTSTART:20200814T123000Z
DTEND:20200814T140000Z
LOCATION:Parkplatz der Hans-Jansen-Halle, Mülheimer Straße 173, Oberhausen, 46045, Deutschland
SUMMARY:Erfolgs-Tour Daniel Schranz: Schulinvestitionen
END:VEVENT
END:VCALENDAR
