BEGIN:VCALENDAR
VERSION:2.0
PRODID:-//hacksw/handcal//NONSGML v1.0//EN
BEGIN:VEVENT
DTSTAMP:20200819T163000Z
DTSTART:20200819T163000Z
DTEND:20200819T180000Z
LOCATION:Center - Point,  Bahnhofstraße / Steinbrinkstraße, Oberhausen, 46145, Deutschland
SUMMARY:Erfolgs-Tour Daniel Schranz: Kaiser & Ganz
END:VEVENT
END:VCALENDAR
