BEGIN:VCALENDAR
VERSION:2.0
PRODID:-//hacksw/handcal//NONSGML v1.0//EN
BEGIN:VEVENT
DTSTAMP:20200924T150000Z
DTSTART:20200924T150000Z
DTEND:20200924T163000Z
LOCATION:Arthotel Ana, ehem. Kaufhof, Paul-Reusch-Str. 38, Oberhausen, 46045, Deutschland
SUMMARY:Erfolgs-Tour Daniel Schranz: Arthotel Ana
END:VEVENT
END:VCALENDAR
