BEGIN:VCALENDAR
VERSION:2.0
PRODID:-//hacksw/handcal//NONSGML v1.0//EN
BEGIN:VEVENT
DTSTAMP:20200808T083000Z
DTSTART:20200808T083000Z
DTEND:20200808T100000Z
LOCATION:Markant Markt, Einbleckstraße 40, Oberhausen, 46117, Deutschland
SUMMARY:Infostand - Borbeck
END:VEVENT
END:VCALENDAR
