BEGIN:VCALENDAR
VERSION:2.0
PRODID:-//hacksw/handcal//NONSGML v1.0//EN
BEGIN:VEVENT
DTSTAMP:20200808T100000Z
DTSTART:20200808T100000Z
DTEND:20200808T120000Z
LOCATION:Obere Marktstraße, Obere Marktstraße, Oberhausen, 46045, Deutschland
SUMMARY:Infostand - Alt-Oberhausen
END:VEVENT
END:VCALENDAR
