BEGIN:VCALENDAR
VERSION:2.0
PRODID:-//hacksw/handcal//NONSGML v1.0//EN
BEGIN:VEVENT
DTSTAMP:20200827T143000Z
DTSTART:20200827T143000Z
DTEND:20200827T163000Z
LOCATION:Am "Blauen Band" zwischen Sterkrader Tor und Technischem Rathaus, Bahnhofstraße 66, Oberhausen, 46145, Deutschland
SUMMARY:Stadtrundgang Sterkrade mit Daniel Schranz, STIG & Schaustellern
END:VEVENT
END:VCALENDAR
