BEGIN:VCALENDAR
VERSION:2.0
PRODID:-//hacksw/handcal//NONSGML v1.0//EN
BEGIN:VEVENT
DTSTAMP:20200903T130000Z
DTSTART:20200903T130000Z
DTEND:20200903T150000Z
LOCATION:Sterkrade Bahnhof, Arnold Rademacher Platz, Oberhausen, 46145, Deutschland
SUMMARY:Infostand - Sterkrade
END:VEVENT
END:VCALENDAR
