BEGIN:VCALENDAR
VERSION:2.0
PRODID:-//hacksw/handcal//NONSGML v1.0//EN
BEGIN:VEVENT
DTSTAMP:20200826T170000Z
DTSTART:20200826T170000Z
DTEND:20200826T190000Z
LOCATION:Kastell Holten, Kastellstraße 58, Oberhausen, 46147, Deutschland
SUMMARY:Podiumsdiskussion der Holtener Intressen- und Bürgergemeinschaft e.V.
END:VEVENT
END:VCALENDAR
