BEGIN:VCALENDAR
VERSION:2.0
PRODID:-//hacksw/handcal//NONSGML v1.0//EN
BEGIN:VEVENT
DTSTAMP:20200826T143000Z
DTSTART:20200826T143000Z
DTEND:20200826T163000Z
LOCATION:ALDI - Weierstraße, Weierstraße 72, Oberhausen, 46149, Deutschland
SUMMARY:Infostand - Weierheide
END:VEVENT
END:VCALENDAR
