BEGIN:VCALENDAR
VERSION:2.0
PRODID:-//hacksw/handcal//NONSGML v1.0//EN
BEGIN:VEVENT
DTSTAMP:20200822T130000Z
DTSTART:20200822T130000Z
DTEND:20200822T150000Z
LOCATION:Wahlkreis Alstaden-West, Oberhausen, 46049, Deutschland
SUMMARY:Auf ein Eis mit Dominik Stenkamp und Karin Dubbert
END:VEVENT
END:VCALENDAR
