BEGIN:VCALENDAR
VERSION:2.0
PRODID:-//hacksw/handcal//NONSGML v1.0//EN
BEGIN:VEVENT
DTSTAMP:20200902T160000Z
DTSTART:20200902T160000Z
DTEND:20200902T180000Z
LOCATION:Gartenhaus - Zu den 4 Schafen bei den 5 Gänsen, Hausmannsfeld 102, Oberhausen, 46047, Deutschland
SUMMARY:Nachbarschaftstreffen von Gundula Hausmann-Peters - Borbeck
END:VEVENT
END:VCALENDAR
