BEGIN:VCALENDAR
VERSION:2.0
PRODID:-//hacksw/handcal//NONSGML v1.0//EN
BEGIN:VEVENT
DTSTAMP:20200908T160000Z
DTSTART:20200908T160000Z
DTEND:20200908T180000Z
LOCATION:Dieckerhof der Familie von der Bey, Dieckerhoffstraße 1, Oberhausen, 46047, Deutschland
SUMMARY:Nachbarschaftstreffen von Werner Nakot & Kevin S. Wilms (Vennepoth/Dümpten)
END:VEVENT
END:VCALENDAR
