BEGIN:VCALENDAR
VERSION:2.0
PRODID:-//hacksw/handcal//NONSGML v1.0//EN
BEGIN:VEVENT
DTSTAMP:20200903T113000Z
DTSTART:20200903T113000Z
DTEND:20200903T140000Z
LOCATION:Vor der Stadtsparkasse, Falkensteinstraße 170, Oberhausen, 46047, Deutschland
SUMMARY:Infostand - Alt-Oberhausen-Ost
END:VEVENT
END:VCALENDAR
