BEGIN:VCALENDAR
VERSION:2.0
PRODID:-//hacksw/handcal//NONSGML v1.0//EN
BEGIN:VEVENT
DTSTAMP:20200905T130000Z
DTSTART:20200905T130000Z
DTEND:20200905T160000Z
LOCATION:Uhlandpark, Uhlandpark, Oberhausen, 46047, Deutschland
SUMMARY:Picknick im Park - mit Ratskandidat Chris Höppner (Brücktor)
END:VEVENT
END:VCALENDAR
