BEGIN:VCALENDAR
VERSION:2.0
PRODID:-//hacksw/handcal//NONSGML v1.0//EN
BEGIN:VEVENT
DTSTAMP:20200905T100000Z
DTSTART:20200905T100000Z
DTEND:20200905T120000Z
LOCATION:Zilianplatz, Zilianplatz, Oberhausen, 46145, Deutschland
SUMMARY:Sommerputz am Zilianplatz
END:VEVENT
END:VCALENDAR
