BEGIN:VCALENDAR
VERSION:2.0
PRODID:-//hacksw/handcal//NONSGML v1.0//EN
BEGIN:VEVENT
DTSTAMP:20200919T073000Z
DTSTART:20200919T073000Z
DTEND:20200919T110000Z
LOCATION:Marktstraße, Marktstraße / Lothringer Str., Oberhausen, 46045, Deutschland
SUMMARY:Infostand - Alt-Oberhausen
END:VEVENT
END:VCALENDAR
