BEGIN:VCALENDAR
VERSION:2.0
PRODID:-//hacksw/handcal//NONSGML v1.0//EN
BEGIN:VEVENT
DTSTAMP:20200918T060000Z
DTSTART:20200918T060000Z
DTEND:20200918T100000Z
LOCATION:Wappenplatz Osterfeld, Gildenstraße 5-11, Oberhausen, 46117, Deutschland
SUMMARY:Infostand - Osterfeld
END:VEVENT
END:VCALENDAR
