BEGIN:VCALENDAR
VERSION:2.0
PRODID:-//hacksw/handcal//NONSGML v1.0//EN
BEGIN:VEVENT
DTSTAMP:20200923T160000Z
DTSTART:20200923T160000Z
DTEND:20200923T173000Z
LOCATION:Solbad Vonderort,  Bottroper Str. 322, Oberhausen, 46117, Deutschland
SUMMARY:Erfolgs-Tour Daniel Schranz: Sanierung Solbad und Entwicklung Revierpark
END:VEVENT
END:VCALENDAR
