BEGIN:VCALENDAR
VERSION:2.0
PRODID:-//hacksw/handcal//NONSGML v1.0//EN
BEGIN:VEVENT
DTSTAMP:20210121T140000Z
DTSTART:20210121T140000Z
DTEND:20210121T140000Z
LOCATION:Luise-Albertz-Halle Saal Paris, Düppelstraße 1, Oberhausen, 46045, Deutschland
SUMMARY:Sitzung des Sportausschusses
END:VEVENT
END:VCALENDAR
