BEGIN:VCALENDAR
VERSION:2.0
PRODID:-//hacksw/handcal//NONSGML v1.0//EN
BEGIN:VEVENT
DTSTAMP:20210125T140000Z
DTSTART:20210125T140000Z
DTEND:20210125T140000Z
LOCATION:Luise-Alberz-Halle Saal Berlin, Düppelstraße 1, Oberhausen, 46045, Deutschland
SUMMARY:Sitzung des Sozialausschusses
END:VEVENT
END:VCALENDAR
