BEGIN:VCALENDAR
VERSION:2.0
PRODID:-//hacksw/handcal//NONSGML v1.0//EN
BEGIN:VEVENT
DTSTAMP:20210225T140000Z
DTSTART:20210225T140000Z
DTEND:20210225T140000Z
LOCATION:Luise-Albertz-Halle, Düppelstraße 1, Oberhausen, 46535, Deutschland
SUMMARY:Sitzung des Beirates für Menschen mit Behinderung
END:VEVENT
END:VCALENDAR
