BEGIN:VCALENDAR
VERSION:2.0
PRODID:-//hacksw/handcal//NONSGML v1.0//EN
BEGIN:VEVENT
DTSTAMP:20210811T160000Z
DTSTART:20210811T160000Z
DTEND:20210811T160000Z
LOCATION:Theater an der Niebuhrg, Niebuhrstraße 61, Oberhausen, 46049, Deutschland
SUMMARY:Sommerprogramm: Freistil – Oberhausener Kultursommer 2021
END:VEVENT
END:VCALENDAR
