BEGIN:VCALENDAR
VERSION:2.0
PRODID:-//hacksw/handcal//NONSGML v1.0//EN
BEGIN:VEVENT
DTSTAMP:20210817T150000Z
DTSTART:20210817T150000Z
DTEND:20210817T150000Z
LOCATION:Gasometer, Kassenhäuschen, Arenastr. 11, Oberhausen, 46047, Deutschland
SUMMARY:Sommerprogramm: Der Gasometer zwischen Sanierung und Wiedereröffnung
END:VEVENT
END:VCALENDAR
