BEGIN:VCALENDAR
VERSION:2.0
PRODID:-//hacksw/handcal//NONSGML v1.0//EN
BEGIN:VEVENT
DTSTAMP:20210819T070000Z
DTSTART:20210819T070000Z
DTEND:20210819T100000Z
LOCATION:Marktplatz Schmachtendorf, Schmachtendorfer Straße 131, Oberhausen, 46147, Deutschland
SUMMARY:Infostand - Schmachtendorf
END:VEVENT
END:VCALENDAR
