BEGIN:VCALENDAR
VERSION:2.0
PRODID:-//hacksw/handcal//NONSGML v1.0//EN
BEGIN:VEVENT
DTSTAMP:20210827T060000Z
DTSTART:20210827T060000Z
DTEND:20210827T100000Z
LOCATION:Marktplatz Osterfeld, Gildenstraße 19, Oberhausen, 46117, Deutschland
SUMMARY:Infostand - Osterfeld
END:VEVENT
END:VCALENDAR
