BEGIN:VCALENDAR
VERSION:2.0
PRODID:-//hacksw/handcal//NONSGML v1.0//EN
BEGIN:VEVENT
DTSTAMP:20210727T150000Z
DTSTART:20210727T150000Z
DTEND:20210727T150000Z
LOCATION:Alsbachtal, vor dem Haus Erzbergerstr. 49, Erzbergerstr. 49, Oberhausen, 46145, Deutschland
SUMMARY:Sommerprogramm: „Museum under construction“
END:VEVENT
END:VCALENDAR
