BEGIN:VCALENDAR
VERSION:2.0
PRODID:-//hacksw/handcal//NONSGML v1.0//EN
BEGIN:VEVENT
DTSTAMP:20250903T153000Z
DTSTART:20250903T153000Z
DTEND:20250903T173000Z
LOCATION:Gecko Torhaus, Vestische Str. 45, Oberhausen, 46117, Deutschland
SUMMARY:Nachbarschaftstreffen Eisenheim / Heide
END:VEVENT
END:VCALENDAR
