BEGIN:VCALENDAR
VERSION:2.0
PRODID:-//hacksw/handcal//NONSGML v1.0//EN
BEGIN:VEVENT
DTSTAMP:20250901T170000Z
DTSTART:20250901T170000Z
DTEND:20250901T190000Z
LOCATION:Cafe Cordes, Steinbrinkstr. 217, Oberhausen, 46145, Deutschland
SUMMARY:Lesung mit Ruprecht Polenz
END:VEVENT
END:VCALENDAR
