BEGIN:VCALENDAR
VERSION:2.0
PRODID:-//hacksw/handcal//NONSGML v1.0//EN
BEGIN:VEVENT
DTSTAMP:20250901T160000Z
DTSTART:20250901T160000Z
DTEND:20250901T180000Z
LOCATION:RWO Sponsorenkantine, Lindnerstraße 78, Oberhausen, 46049, Deutschland
SUMMARY:SSB: Sport-Talk mit den OB-Kandidaten
END:VEVENT
END:VCALENDAR
