BEGIN:VCALENDAR
VERSION:2.0
PRODID:-//hacksw/handcal//NONSGML v1.0//EN
BEGIN:VEVENT
DTSTAMP:20250905T130000Z
DTSTART:20250905T130000Z
DTEND:20250905T143000Z
LOCATION:Cafe Marienkäfer, Marienburgstraße 5a, Oberhausen, 46047, Deutschland
SUMMARY:Auf einen Kaffee mit Marcel Weier
END:VEVENT
END:VCALENDAR
