BEGIN:VCALENDAR
VERSION:2.0
PRODID:-//hacksw/handcal//NONSGML v1.0//EN
BEGIN:VEVENT
DTSTAMP:20250906T110000Z
DTSTART:20250906T110000Z
DTEND:20250906T110000Z
LOCATION:Hotel zur Post, Bahnhofstraße 10, Oberhausen, 46145, Deutschland
SUMMARY:Nachbarschaftstreffen Alsfeld / Sterkarde-Mitte-Süd
END:VEVENT
END:VCALENDAR
