BEGIN:VCALENDAR
VERSION:2.0
PRODID:-//hacksw/handcal//NONSGML v1.0//EN
BEGIN:VEVENT
DTSTAMP:20250906T160000Z
DTSTART:20250906T160000Z
DTEND:20250906T160000Z
LOCATION:Am Lohbruch 16, Oberhausen, 46147, Deutschland
SUMMARY:Nachbarschaftsgrillen Walsumermark
END:VEVENT
END:VCALENDAR
